BEGIN:VCALENDAR
VERSION:2.0
PRODID:spatie/icalendar-generator
DESCRIPTION:Veranstaltungen von Uniliga.gg
X-WR-CALDESC:Veranstaltungen von Uniliga.gg
REFRESH-INTERVAL;VALUE=DURATION:PT1440M
X-PUBLISHED-TTL:PT1440M
BEGIN:VTIMEZONE
TZID:Europe/Berlin
BEGIN:STANDARD
DTSTART:20231029T030000Z
TZOFFSETFROM:+0200
TZOFFSETTO:+0100
END:STANDARD
BEGIN:DAYLIGHT
DTSTART:20240331T020000Z
TZOFFSETFROM:+0100
TZOFFSETTO:+0200
END:DAYLIGHT
BEGIN:STANDARD
DTSTART:20241027T030000Z
TZOFFSETFROM:+0200
TZOFFSETTO:+0100
END:STANDARD
END:VTIMEZONE
BEGIN:VTIMEZONE
TZID:UTC
BEGIN:STANDARD
DTSTART:20250730T022718Z
TZOFFSETFROM:+0000
TZOFFSETTO:+0000
END:STANDARD
END:VTIMEZONE
BEGIN:VEVENT
UID:184-35
DTSTAMP:20260426T022718Z
SUMMARY:Rainbow Six: Siege
LOCATION:
ORGANIZER;CN=Admin:MAILTO:support@uniliga.gg
RRULE:FREQ=WEEKLY;UNTIL=20240729T000000Z
DTSTART;TZID=Europe/Berlin:20240623T173000
DTEND;TZID=Europe/Berlin:20240623T210000
X-ALT-DESC;FMTTYPE=TEXT/HTML:
CATEGORIES:Shooter
URL;VALUE=URI:https://www.uniliga.gg/mc-events/rainbow-six-siege-2/?mc_id=1
 84
END:VEVENT
END:VCALENDAR